Workbook

Sheet Berekening
A1: Kinderopvangtoeslag per maand, 2026 en 2027 (Cijferdijk)
A2: Vul de gele cellen in. Soort: dagopvang, bso of gastouderopvang. Laat uren op 0 voor een kind zonder opvang.
A3: Toetsingsinkomen per jaar (samen met toeslagpartner) | B3: 60000
A5: Kind | B5: Soort | C5: Uren per maand | D5: Uurprijs
A6: Kind 1 | B6: dagopvang | C6: 100 | D6: 11.5
A7: Kind 2 | B7: bso | C7: 0 | D7: 10
A8: Kind 3 | B8: bso | C8: 0 | D8: 10
A10: Berekening | C10: 2026 | D10: 2027
A11: Kosten kind 1 tot de maxima | C11: =ROUND(MIN(MAX(0,$C$6),Parameters!$C$5)*MIN(MAX(0,$D$6),IF($B$6="bso",Parameters!$C$3,IF($B$6="gastouderopvang",Parameters!$C$4,Parameters!$C$2))),2) | D11: =ROUND(MIN(MAX(0,$C$6),Parameters!$D$5)*MIN(MAX(0,$D$6),IF($B$6="bso",Parameters!$D$3,IF($B$6="gastouderopvang",Parameters!$D$4,Parameters!$D$2))),2)
A12: Kosten kind 2 tot de maxima | C12: =ROUND(MIN(MAX(0,$C$7),Parameters!$C$5)*MIN(MAX(0,$D$7),IF($B$7="bso",Parameters!$C$3,IF($B$7="gastouderopvang",Parameters!$C$4,Parameters!$C$2))),2) | D12: =ROUND(MIN(MAX(0,$C$7),Parameters!$D$5)*MIN(MAX(0,$D$7),IF($B$7="bso",Parameters!$D$3,IF($B$7="gastouderopvang",Parameters!$D$4,Parameters!$D$2))),2)
A13: Kosten kind 3 tot de maxima | C13: =ROUND(MIN(MAX(0,$C$8),Parameters!$C$5)*MIN(MAX(0,$D$8),IF($B$8="bso",Parameters!$C$3,IF($B$8="gastouderopvang",Parameters!$C$4,Parameters!$C$2))),2) | D13: =ROUND(MIN(MAX(0,$C$8),Parameters!$D$5)*MIN(MAX(0,$D$8),IF($B$8="bso",Parameters!$D$3,IF($B$8="gastouderopvang",Parameters!$D$4,Parameters!$D$2))),2)
A14: Rangorde kind 1 (uren, dan kosten) | C14: =MIN(MAX(0,$C$6),Parameters!$C$5)*1000000+C11-0/1000 | D14: =MIN(MAX(0,$C$6),Parameters!$D$5)*1000000+D11-0/1000
A15: Rangorde kind 2 (uren, dan kosten) | C15: =MIN(MAX(0,$C$7),Parameters!$C$5)*1000000+C12-1/1000 | D15: =MIN(MAX(0,$C$7),Parameters!$D$5)*1000000+D12-1/1000
A16: Rangorde kind 3 (uren, dan kosten) | C16: =MIN(MAX(0,$C$8),Parameters!$C$5)*1000000+C13-2/1000 | D16: =MIN(MAX(0,$C$8),Parameters!$D$5)*1000000+D13-2/1000
A17: Eerste kind (nummer) | C17: =MATCH(MAX(C14,C15,C16),C14:C16,0) | D17: =MATCH(MAX(D14,D15,D16),D14:D16,0)
A18: Percentage eerste kind | C18: =VLOOKUP(MAX(0,ROUNDDOWN($B$3,0)),Tabel!$A$3:$C$71,2,1) | D18: =VLOOKUP(MAX(0,ROUNDDOWN($B$3,0)),Tabel!$E$3:$G$71,2,1)
A19: Percentage volgende kinderen | C19: =VLOOKUP(MAX(0,ROUNDDOWN($B$3,0)),Tabel!$A$3:$C$71,3,1) | D19: =VLOOKUP(MAX(0,ROUNDDOWN($B$3,0)),Tabel!$E$3:$G$71,3,1)
A20: Toeslag kind 1 | C20: =ROUND(C11*IF(C17=1,C18,C19),2) | D20: =ROUND(D11*IF(D17=1,D18,D19),2)
A21: Toeslag kind 2 | C21: =ROUND(C12*IF(C17=2,C18,C19),2) | D21: =ROUND(D12*IF(D17=2,D18,D19),2)
A22: Toeslag kind 3 | C22: =ROUND(C13*IF(C17=3,C18,C19),2) | D22: =ROUND(D13*IF(D17=3,D18,D19),2)
A23: Som per maand | C23: =C20+C21+C22 | D23: =D20+D21+D22
A24: Per jaar (12 gelijke maanden, afgerond) | C24: =IF(ROUND(C23*12,0)<Parameters!$C$6,0,ROUND(C23*12,0)) | D24: =IF(ROUND(D23*12,0)<Parameters!$D$6,0,ROUND(D23*12,0))
A25: Kinderopvangtoeslag per maand (naar beneden) | C25: =IF(C24=0,0,ROUNDDOWN(C23,0)) | D25: =IF(D24=0,0,ROUNDDOWN(D23,0))
A27: 2027: maximum uurprijzen definitief (Staatsblad 2026, 308), percentages volgens het voorstel (ontwerpbesluit september 2026). Werkeis: jij en je toeslagpartner moeten werken, studeren of een traject volgen.

Sheet Tabel
A1: Tabel 2026 (definitief) | E1: Tabel 2027 (voorstel)
A2: Toetsingsinkomen vanaf | B2: Eerste kind | C2: Volgende kind | E2: Toetsingsinkomen vanaf | F2: Eerste kind | G2: Volgende kind
A3: 0 | B3: 0.96 | C3: 0.96 | E3: 0 | F3: 0.96 | G3: 0.96
A4: 24150 | B4: 0.96 | C4: 0.96 | E4: 24988 | F4: 0.96 | G4: 0.96
A5: 25757 | B5: 0.96 | C5: 0.96 | E5: 26651 | F5: 0.96 | G5: 0.96
A6: 27364 | B6: 0.96 | C6: 0.96 | E6: 28313 | F6: 0.96 | G6: 0.96
A7: 28974 | B7: 0.96 | C7: 0.96 | E7: 29979 | F7: 0.96 | G7: 0.96
A8: 30580 | B8: 0.96 | C8: 0.96 | E8: 31641 | F8: 0.96 | G8: 0.96
A9: 32190 | B9: 0.96 | C9: 0.96 | E9: 33307 | F9: 0.96 | G9: 0.96
A10: 33796 | B10: 0.96 | C10: 0.96 | E10: 34969 | F10: 0.96 | G10: 0.96
A11: 35401 | B11: 0.96 | C11: 0.96 | E11: 36629 | F11: 0.96 | G11: 0.96
A12: 37130 | B12: 0.96 | C12: 0.96 | E12: 38418 | F12: 0.96 | G12: 0.96
A13: 38856 | B13: 0.96 | C13: 0.96 | E13: 40204 | F13: 0.96 | G13: 0.96
A14: 40587 | B14: 0.96 | C14: 0.96 | E14: 41995 | F14: 0.96 | G14: 0.96
... A71: 235698 | B71: 0.365 | C71: 0.682 | E71: 243877 | F71: 0.391 | G71: 0.697

Sheet Parameters
A1: Parameter | B1: Sleutel | C1: 2026 | D1: 2027 | E1: Status / opmerking
A2: Maximum uurprijs dagopvang | B2: kinderopvangtoeslag.max_uurprijs.dagopvang | C2: 11.23 | D2: 11.6 | E2: definitief
A3: Maximum uurprijs buitenschoolse opvang | B3: kinderopvangtoeslag.max_uurprijs.bso | C3: 9.98 | D3: 10.31 | E3: definitief
A4: Maximum uurprijs gastouderopvang | B4: kinderopvangtoeslag.max_uurprijs.gastouderopvang | C4: 8.49 | D4: 8.77 | E4: definitief
A5: Maximum aantal uren per kind per maand | B5: kinderopvangtoeslag.max_uren_per_maand | C5: 230 | D5: 230 | E5: definitief
A6: Geen toeslag onder dit bedrag per jaar | B6: kinderopvangtoeslag.min_toeslag_jaar | C6: 24 | D6: 24 | E6: definitief

Sheet Bronnen
A1: Parameter | B1: Jaar | C1: Waarde | D1: Status | E1: Bron | F1: Gecontroleerd op
A2: Maximum uurprijs dagopvang | B2: 2026 | C2: 11.23 | D2: definitief | E2: https://wetten.overheid.nl/BWBR0017321/2026-01-01 | F2: 2026-10-04
A3: Maximum uurprijs dagopvang | B3: 2027 | C3: 11.6 | D3: definitief | E3: https://zoek.officielebekendmakingen.nl/stb-2026-308.html | F3: 2026-10-12
A4: Maximum uurprijs buitenschoolse opvang | B4: 2026 | C4: 9.98 | D4: definitief | E4: https://wetten.overheid.nl/BWBR0017321/2026-01-01 | F4: 2026-10-04
A5: Maximum uurprijs buitenschoolse opvang | B5: 2027 | C5: 10.31 | D5: definitief | E5: https://zoek.officielebekendmakingen.nl/stb-2026-308.html | F5: 2026-10-12
A6: Maximum uurprijs gastouderopvang | B6: 2026 | C6: 8.49 | D6: definitief | E6: https://wetten.overheid.nl/BWBR0017321/2026-01-01 | F6: 2026-10-04
A7: Maximum uurprijs gastouderopvang | B7: 2027 | C7: 8.77 | D7: definitief | E7: https://zoek.officielebekendmakingen.nl/stb-2026-308.html | F7: 2026-10-12
A8: Maximum aantal uren per kind per maand | B8: 2026 | C8: 230 | D8: definitief | E8: https://wetten.overheid.nl/BWBR0017321/2026-01-01 | F8: 2026-10-04
A9: Maximum aantal uren per kind per maand | B9: 2027 | C9: 230 | D9: definitief | E9: https://wetten.overheid.nl/BWBR0017321/2026-01-01 | F9: 2026-10-04
A10: Geen toeslag onder dit bedrag per jaar | B10: 2026 | C10: 24 | D10: definitief | E10: https://wetten.overheid.nl/BWBR0018472/2026-01-01 | F10: 2026-10-04
A11: Geen toeslag onder dit bedrag per jaar | B11: 2027 | C11: 24 | D11: definitief | E11: https://wetten.overheid.nl/BWBR0018472/2026-01-01 | F11: 2026-10-04
A12: Tabel vergoedingspercentages | B12: 2026 | C12: [tabel] | D12: definitief | E12: https://wetten.overheid.nl/BWBR0017321/2026-01-01 | F12: 2026-10-04
A13: Tabel vergoedingspercentages | B13: 2027 | C13: [tabel] | D13: voorstel | E13: https://www.tweedekamer.nl/downloads/document?id=2026D43559 | F13: 2026-10-26
A15: Cijferdijk is onafhankelijk en geen onderdeel van de overheid. Uitkomsten zijn een indicatie, geen financieel advies.
